BEGIN:VCALENDAR
VERSION:2.0
PRODID:-//wp-events-plugin.com//7.2.3.1//EN
BEGIN:VEVENT
UID:15@huertafutura.com
DTSTART;TZID=Europe/Madrid:20241115T100000
DTEND;TZID=Europe/Madrid:20241115T130000
DTSTAMP:20250107T114827Z
URL:https://huertafutura.com/events/xii-encuentros-de-centros-de-documenta
 cion-en-artium-presentacion-de-datos-abiertos-en-instituciones-patrimonial
 es-de-museos-artium-museoa-vitoria-11-11-2024-noviembre-10h/
SUMMARY:XII Encuentros de Centros de Documentación en Artium - Presentaci
 ón de datos abiertos en instituciones patrimoniales de Museos  – Artium
  Museoa\, Vitoria – 11/11/2024. Noviembre 10h
DESCRIPTION:Cómo los datos abiertos pueden contribuir a dar visibilidad\, 
 acceso e ir hacia el futuro en una institución cultural.\nExplorando el F
 uturo de la Gestión Documental: XII Encuentros de Centros de Documentaci
 ón en Artium\nEl centro Artium Museoa será nuevamente el punto de encuen
 tro para profesionales del ámbito documental y artístico\, con la celebr
 ación de los XII Encuentros de Centros de Documentación de Arte Contempo
 ráneo. Este evento bienal\, que tuvo lugar los días jueves 14 y viernes 
 15 de noviembre\, congregará a destacados expertos para reflexionar sobre
  las estrategias digitales en la gestión del patrimonio documental.\nCon 
 un programa repleto de intervenciones\, los asistentes tendrán la oportun
 idad de explorar cómo la tecnología está revolucionando el manejo y la 
 conservación de colecciones documentales. Los temas centrales incluyen la
  digitalización de colecciones artísticas y audiovisuales\, la integraci
 ón de la inteligencia artificial en la gestión de archivos y la utilizac
 ión de datos abiertos para potenciar el acceso al patrimonio cultural. Es
 tas jornadas serán un espacio privilegiado para el aprendizaje y el inter
 cambio de experiencias\, fomentando el desarrollo de nuevas estrategias en
  el sector.\nLos encuentros contarán con la participación de especialist
 as provenientes de instituciones tan prestigiosas como el Museo Reina Sof
 ía\, el Museo del Prado\, el Museu Picasso\, la Biblioteca Nacional\, y l
 os archivos de RTVE y EITB\, entre otras entidades. Estas figuras comparti
 rán sus conocimientos y proyectos\, generando un espacio de debate en tor
 no a los desafíos y oportunidades de la preservación digital en el siglo
  XXI.\nEntre los participantes destacados se encuentran Elena Roseras\, re
 sponsable del Centro de Documentación de Artium Museoa\; Luis Martínez U
 ribe y Beatriz Martín García de la Fundación Juan March\; Carolina Sant
 amaría del Museo Reina Sofía\; Núria Solé Bardalet del Museu Picasso d
 e Barcelona\; Ana María Martín Bravo del Museo del Prado\; Luis de Isusi
  de EITB\; y Virginia Bazán\, directora del Archivo de RTVE. También se 
 sumarán expertos como Antonio Baía de la Universidad Carlos III\, Gloria
  Expósito de la Biblioteca Nacional\, Isabel Palomera de la Universidad C
 omplutense\, Modesto Escobar y Cristina Calvo de la Universidad de Salaman
 ca\, Miquel Térmens de la Universitat de Barcelona\, y Antonia Ferrer de 
 la Universitat Politècnica de València.\nCon más de 70 personas ya insc
 ritas\, el evento promete ser una plataforma de colaboración y aprendizaj
 e. Las inscripciones\, tanto para la modalidad presencial como online\, es
 tarán abiertas hasta el miércoles 13 de noviembre\, permitiendo que más
  interesados puedan unirse a estas jornadas. Durante dos días intensivos\
 , se presentarán casos de estudio innovadores que destacan el uso de anal
 ítica avanzada y técnicas digitales para mejorar la gestión documental 
 y la toma de decisiones.\n\nDesafíos y Soluciones para la Preservación D
 igital\nUno de los temas más relevantes de las jornadas será la preserva
 ción digital\, un aspecto clave en la gestión documental actual. En un c
 ontexto donde los retos técnicos\, económicos y conceptuales demandan so
 luciones sostenibles\, estas ponencias abordarán enfoques novedosos y pr
 ácticos para garantizar la conservación y el acceso a las colecciones en
  el futuro.\nDesde su primera edición en 2002\, los Encuentros de Centros
  de Documentación de Arte Contemporáneo organizados por Artium han sido 
 un referente para el intercambio de ideas y la generación de redes colabo
 rativas. Estos espacios no solo promueven la innovación en la gestión do
 cumental\, sino que también responden a las necesidades cambiantes de la 
 sociedad mediante la implementación de estrategias digitales avanzadas.\n
 En esta duodécima edición\, el evento reafirma su compromiso con el futu
 ro del patrimonio cultural\, destacando la importancia de la tecnología y
  la colaboración interdisciplinaria como motores de cambio. Artium se pos
 iciona una vez más como un líder en la promoción de iniciativas que tra
 nsforman los desafíos en oportunidades para la investigación\, la preser
 vación y la difusión del arte contemporáneo.\nPresentación: Artium_Vit
 oria\n\nFuente de información: Noticias de Álava.\nWe would like to ackn
 owledge funding from the Generalitat Valenciana (Spain) through the PROMET
 EO 2024 CIPROM/2023/32 grant.\nPROGRAMA PROMETEO 2024 - CIPROM/2023/32) de
  la Conselleria de Educación\, Cultura\, Universidades y Empleo.
CATEGORIES:Jornadas
LOCATION:Artium Museoa\, Calle Francia\, 24. Vitoria-Gasteiz\, 01002 Araba\
 , Vitoria-Gasteiz\, Álava\, 01002\, País Vasco\, España
X-APPLE-STRUCTURED-LOCATION;VALUE=URI;X-ADDRESS=Calle Francia\, 24. Vitoria
 -Gasteiz\, 01002 Araba\, Vitoria-Gasteiz\, Álava\, 01002\, País Vasco\, 
 España;X-APPLE-RADIUS=100;X-TITLE=Artium Museoa:geo:0,0
END:VEVENT
BEGIN:VTIMEZONE
TZID:Europe/Madrid
X-LIC-LOCATION:Europe/Madrid
BEGIN:STANDARD
DTSTART:20241027T020000
TZOFFSETFROM:+0200
TZOFFSETTO:+0100
TZNAME:CET
END:STANDARD
END:VTIMEZONE
END:VCALENDAR