BEGIN:VCALENDAR
VERSION:2.0
PRODID:-//wp-events-plugin.com//7.2.3.1//EN
BEGIN:VEVENT
UID:13@huertafutura.com
DTSTART;TZID=Europe/Madrid:20241118T100000
DTEND;TZID=Europe/Madrid:20241118T130000
DTSTAMP:20250107T101349Z
URL:https://huertafutura.com/events/presentacion-proyecto-prospectiva-y-an
 alisis-de-futuros-de-los-productos-agricolas-de-la-huerta-de-la-comunidad-
 valenciana-universidad-ean-18-11-2024-noviembre-10h/
SUMMARY:Presentación Proyecto: Prospectiva y análisis de futuros de los p
 roductos agrícolas de la Huerta de la Comunidad Valenciana - Universidad 
 EAN – 18/11/2024. Noviembre 10h
DESCRIPTION:Metodología Innovadora para el Estudio de Tendencias Globales 
 y la Sostenibilidad en la Huerta de Valencia\nEl pasado 18 de noviembre de
  2024\, la Universidad EAN de Bogotá presentó en la jornada "Futuros Sin
 gulares" un ambicioso proyecto titulado "Prospectiva y análisis de futuro
 s de los productos agrícolas de la Huerta de la Comunidad Valenciana". Es
 te proyecto busca establecer una metodología pionera que permita identifi
 car y analizar tendencias globales que impacten en la sostenibilidad de lo
 s productos agrícolas locales. El objetivo principal del proyecto es desa
 rrollar y validar una metodología basada en el paradigma cognitivo del De
 sign Thinking\, diseñada para analizar megatendencias y macrotendencias g
 lobales mediante técnicas avanzadas de análisis cuantitativo\, el uso de
  algoritmos de inteligencia artificial para procesar datos y generar proye
 cciones semánticas\, y herramientas de inteligencia generativa para el de
 sarrollo de escenarios futuros.\nEl análisis prospectivo se centra en esc
 enarios futuros relacionados con la Huerta de Valencia\, con el objetivo d
 e promover la sostenibilidad de los productos agrícolas locales\, fortale
 cer la competitividad y resiliencia de los pequeños agricultores\, mejora
 r las condiciones de vida en la región y contribuir al desarrollo económ
 ico y social\, alineándose con principios de sostenibilidad e inclusión.
  Entre los objetivos específicos destacan diseñar un procedimiento de an
 álisis semántico del lenguaje natural\, integrando herramientas avanzada
 s como word embeddings y ChatGPT\, basado en estudios previos como el de M
 anetti et al. (2022)\; desarrollar una metodología de cuantificación só
 lida para diseñar nuevas herramientas metodológicas y plataformas inform
 áticas\; crear protocolos para implementar estas herramientas en contexto
 s específicos\, definiendo reglas claras para su aplicación\; y analizar
  las posibles transformaciones de los productos de la Huerta Valenciana y 
 sus implicaciones a medio plazo.\nEl proyecto plantea un enfoque integral 
 dividido en fases cualitativas y cuantitativas. En la fase cualitativa\, s
 e recopilarán datos sobre tendencias\, metodologías de diseño y estrate
 gias de innovación mediante análisis automatizado y revisión convencion
 al\; se utilizarán herramientas como Defly y Design Thinking para diferen
 ciar entre tendencias\, macrotendencias y megatendencias en agricultura\; 
 y se realizará una representación visual de los principales problemas a 
 resolver\, siguiendo enfoques de Grand et al. (2022) y Manetti et al. (202
 1). En la fase cuantitativa\, se automatizará el análisis de universos d
 e tendencias cruzados con necesidades del sector\; se emplearán proyeccio
 nes semánticas basadas en modelos matemáticos para extraer información 
 medible y generar escenarios comparativos\; y se utilizará inteligencia g
 enerativa para construir escenarios futuros revisados por expertos\, integ
 rando datos de actores clave como la FAO y fuentes locales.\nLa metodolog
 ía incluye la validación a través de estudios de caso en la Huerta Vale
 nciana\, contemplando la revisión de literatura y marco teórico\, la apl
 icación de encuestas y entrevistas\, y la modelización matemática y an
 álisis cuantitativo. El proyecto cuenta con un equipo multidisciplinar co
 mpuesto por investigadores de Ciencias Sociales\, Matemáticas\, Tecnolog
 ía\, y estudiantes predoctorales.\nEl desarrollo de esta metodología per
 mitirá anticipar cambios futuros en el sector agrícola valenciano\, prom
 oviendo soluciones innovadoras que potencien la sostenibilidad y la compet
 itividad de la región. Este enfoque no solo fortalecerá el sector agríc
 ola local\, sino que también contribuirá al cumplimiento de los Objetivo
 s de Desarrollo Sostenible (ODS)\, asegurando un impacto positivo tanto a 
 nivel regional como global. Presentacion_EAN.\nWe would like to acknowledg
 e funding from the Generalitat Valenciana (Spain) through the PROMETEO 202
 4 CIPROM/2023/32 grant.\nPROGRAMA PROMETEO 2024 - CIPROM/2023/32) de la Co
 nselleria de Educación\, Cultura\, Universidades y Empleo.
CATEGORIES:Jornadas
LOCATION:Universidad EAN\, Calle 43 No. 57 - 14. CAN. Bogotá\, Colombia\, 
 Bogotá\, Colombia\, 111321\, Colombia
X-APPLE-STRUCTURED-LOCATION;VALUE=URI;X-ADDRESS=Calle 43 No. 57 - 14. CAN. 
 Bogotá\, Colombia\, Bogotá\, Colombia\, 111321\, Colombia;X-APPLE-RADIUS
 =100;X-TITLE=Universidad EAN:geo:0,0
END:VEVENT
BEGIN:VTIMEZONE
TZID:Europe/Madrid
X-LIC-LOCATION:Europe/Madrid
BEGIN:STANDARD
DTSTART:20241027T020000
TZOFFSETFROM:+0200
TZOFFSETTO:+0100
TZNAME:CET
END:STANDARD
END:VTIMEZONE
END:VCALENDAR