BEGIN:VCALENDAR
VERSION:2.0
PRODID:-//wp-events-plugin.com//7.2.3.1//EN
BEGIN:VEVENT
UID:25@huertafutura.com
DTSTART;TZID=Europe/Madrid;VALUE=DATE:20240930
DTEND;TZID=Europe/Madrid;VALUE=DATE:20241001
DTSTAMP:20251020T091555Z
URL:https://huertafutura.com/events/jornada-prometeo-escucha-social-agricu
 ltores-y-organizaciones-agricolas-26-02-2025-febrero-10h-copy/
SUMMARY:Visor cartográfico de productos locales y parcelas agrarias
DESCRIPTION:\nVisor cartográfico de productos locales y parcelas agrarias\
 n\n\n\n\n\n\n\n\n\n\nEste mapa interactivo ha sido desarrollado como parte
  del Trabajo Fin de Grado de Santiago José Díaz Olivares en el Grado de 
 Ingeniería en Geomática y Topografía. Su finalidad es centralizar y pre
 sentar de forma accesible información relevante sobre la comercializació
 n de productos locales y la distribución de terrenos agrícolas en la zon
 a de estudio.\nPara ello\, se han recopilado datos de fuentes abiertas rel
 acionadas con los usos del suelo\, complementados con visitas de campo\, r
 ecolección de información in situ y una clasificación supervisada de lo
 s cultivos actualizados. Además\, se han gestionado capas de información
  basadas en proyectos e iniciativas previas y se ha diseñado un modelo de
  datos integrando toda la información obtenida. Finalmente\, toda esta in
 formación ha sido unificada en el visor cartográfico.\nLa aplicación of
 rece datos actualizados provenientes tanto de fuentes abiertas como de sen
 sores y observaciones de campo realizadas específicamente para este estud
 io. Como resultado\, se ha desarrollado un mapa interactivo que permite vi
 sualizar:\n\n\n 	Establecimientos en Valencia que comercializan productos 
 locales de la huerta.\n 	Información detallada sobre las parcelas agríco
 las en la zona de estudio.\n\nEste visor proporciona una herramienta útil
  para la comunidad\, fomentando la participación ciudadana y la sostenibi
 lidad. Su propósito es fortalecer el vínculo entre productores y consumi
 dores\, promoviendo el acceso a productos frescos y locales de la huerta v
 alenciana.\n\n\n\n\n\n\n\n\n\n\n\n\n
CATEGORIES:Reunión técnica,Taller
LOCATION:IUMPA - Instituto Universitario de Matemática Pura y Aplicada\, C
 ampus de Vera\, Camino de Vera\, s/n\, Valencia. Edificio 8E\, acceso F\, 
 4ª Planta\, Valencia\, 46022\, España
X-APPLE-STRUCTURED-LOCATION;VALUE=URI;X-ADDRESS=Campus de Vera\, Camino de 
 Vera\, s/n\, Valencia. Edificio 8E\, acceso F\, 4ª Planta\, Valencia\, 46
 022\, España;X-APPLE-RADIUS=100;X-TITLE=IUMPA - Instituto Universitario d
 e Matemática Pura y Aplicada:geo:0,0
END:VEVENT
BEGIN:VTIMEZONE
TZID:Europe/Madrid
X-LIC-LOCATION:Europe/Madrid
BEGIN:DAYLIGHT
DTSTART:20240331T030000
TZOFFSETFROM:+0100
TZOFFSETTO:+0200
TZNAME:CEST
END:DAYLIGHT
END:VTIMEZONE
END:VCALENDAR