BEGIN:VCALENDAR
VERSION:2.0
PRODID:-//wp-events-plugin.com//7.2.3.1//EN
BEGIN:VEVENT
UID:16@huertafutura.com
DTSTART;TZID=Europe/Madrid:20250131T110000
DTEND;TZID=Europe/Madrid:20250131T130000
DTSTAMP:20250128T100026Z
URL:https://huertafutura.com/events/jornada-conjunta-prometeo-agrivia-vier
 nes-31-de-enero-a-las-11-00-seminario-iumpa/
SUMMARY:Jornada conjunta Prometeo/AgriVIA. Viernes 31 de enero a las 11.00 
 (Seminario IUMPA)
DESCRIPTION:\nEl próximo viernes 31 de enero\, te invitamos a participar e
 n una jornada única en la que se presentarán los avances y resultados cl
 ave de los proyectos Prometeo (GVA) y AgriVIA (UPV)\, que llega a su etapa
  final este mes de marzo.\nLa jornada se llevará a cabo en el Seminario d
 el IUMPA\, con una duración aproximada de dos horas\, y contará con la p
 articipación de destacados expertos del ámbito académico y profesional.
  Será una oportunidad para conocer los aportes más recientes de estos pr
 oyectos al sector agrícola\, así como para profundizar en la construcci
 ón y análisis de indicadores compuestos desde una perspectiva matemátic
 a crítica.\n\nPrograma\n11.00-11.30\nInauguración\n\n\n 	Nuria Ortigosa:
  Presentación del balance y los resultados del proyecto AgriVIA.\n\n11.30
 -12.30\nConferencia: Eduardo Jiménez Fernández (Universidad de Granada)\
 n\n\n 	Título: Indicadores Compuestos: Entre la Métrica y la Ordenación
  — Un Análisis Crítico de sus Fundamentos Matemáticos.\n 	Resumen: Lo
 s indicadores compuestos\, como el Índice de Desarrollo Humano (IDH) o el
  Índice de Competitividad Global (ICG)\, son herramientas esenciales en l
 as ciencias sociales para evaluar y ordenar países o regiones según crit
 erios clave como calidad de vida o desigualdad. Sin embargo\, desde un enf
 oque matemático\, presentan limitaciones fundamentales\, ya que muchas ve
 ces no se construyen sobre bases normativas rigurosas\, afectando la inter
 pretación de las diferencias entre entidades.\nEn esta conferencia\, se a
 nalizarán estas anomalías y se explorará una nueva metodología para re
 solver estas inconsistencias en la construcción de indicadores sintético
 s\, con aplicaciones tanto en el ámbito social como en el agrícola.\n\n1
 2.30-13.00\nJose M. Calabuig\n\n\n 	Presentación de la Plataforma de dato
 s AgriVIA\, una herramienta clave para la toma de decisiones basadas en da
 tos en el sector agrícola.\n\n\nDetalles del evento\n\n 	Fecha: Viernes 3
 1 de enero.\n 	Lugar: Seminario del IUMPA.\n 	Duración: 11:00 a 13:00.\n\
 nTe esperamos en esta jornada de intercambio de conocimiento y reflexión 
 crítica sobre las herramientas que están transformando la agricultura y 
 las ciencias sociales. No te pierdas esta oportunidad de participar en el 
 análisis y la proyección del futuro del sector agrícola.\nWe would like
  to acknowledge funding from the Generalitat Valenciana (Spain) through th
 e PROMETEO 2024 CIPROM/2023/32 grant.\n\nPROGRAMA PROMETEO 2024 - CIPROM/2
 023/32) de la Conselleria de Educación\, Cultura\, Universidades y Empleo
 .
CATEGORIES:Jornadas
LOCATION:IUMPA - Instituto Universitario de Matemática Pura y Aplicada\, C
 ampus de Vera\, Camino de Vera\, s/n\, Valencia. Edificio 8E\, acceso F\, 
 4ª Planta\, Valencia\, 46022\, España
X-APPLE-STRUCTURED-LOCATION;VALUE=URI;X-ADDRESS=Campus de Vera\, Camino de 
 Vera\, s/n\, Valencia. Edificio 8E\, acceso F\, 4ª Planta\, Valencia\, 46
 022\, España;X-APPLE-RADIUS=100;X-TITLE=IUMPA - Instituto Universitario d
 e Matemática Pura y Aplicada:geo:0,0
END:VEVENT
BEGIN:VTIMEZONE
TZID:Europe/Madrid
X-LIC-LOCATION:Europe/Madrid
BEGIN:STANDARD
DTSTART:20241027T020000
TZOFFSETFROM:+0200
TZOFFSETTO:+0100
TZNAME:CET
END:STANDARD
END:VTIMEZONE
END:VCALENDAR