BEGIN:VCALENDAR
VERSION:2.0
PRODID:-//wp-events-plugin.com//7.2.3.1//EN
BEGIN:VEVENT
UID:18@huertafutura.com
DTSTART;TZID=Europe/Madrid:20250115T093000
DTEND;TZID=Europe/Madrid:20250115T113000
DTSTAMP:20250129T134220Z
URL:https://huertafutura.com/events/jornada-con-enric-serradell-profesor-d
 e-la-universitat-oberta-de-catalunya-uoc-15-01-2025/
SUMMARY:Jornada con Enric Serradell\, profesor de la Universitat Oberta de 
 Catalunya (UOC). 15/01/2025
DESCRIPTION:\nEl pasado 15 de enero\, nos reunimos con Enric Serradell\, pr
 ofesor de la Universitat Oberta de Catalunya (UOC)\, en una reunión enfoc
 ada en cómo abordar problemas complejos dentro de las organizaciones. Enr
 ic\, quien es experto en resolución de problemas y gestión del cambio\, 
 compartió distintas perspectivas que son esenciales para nuestro proyecto
 .\n\nDurante la sesión\, se discutieron metodologías avanzadas y estrate
 gias efectivas para manejar y anticipar posibles escenarios futuros\, bas
 ándonos en el conocimiento acumulado y las técnicas innovadoras presenta
 das en su libro sobre resolución de problemas. Esta reunión no solo refo
 rzó la importancia de una gestión del cambio efectiva en tiempos de ince
 rtidumbre\, sino que también puso de relieve cómo las habilidades de res
 olución de problemas pueden aplicarse para mejorar la adaptabilidad y la 
 proactividad en las organizaciones.\n\n\n \n\nEste enfoque será de gran u
 tilidad para nuestro proyecto en la Huerta de Valencia\, donde buscamos im
 plementar soluciones que no solo aborden los desafíos actuales\, sino que
  también preparen a la organización para el futuro.\nWe would like to ac
 knowledge funding from the Generalitat Valenciana (Spain) through the PROM
 ETEO 2024 CIPROM/2023/32 grant.\n\nPROGRAMA PROMETEO 2024 - CIPROM/2023/32
 ) de la Conselleria de Educación\, Cultura\, Universidades y Empleo.
CATEGORIES:Jornadas
LOCATION:Universitat Oberta de Catalunya (UOC)\, Rambla del Poble Nou\, 156
 \, Barcelona\, 08018\, España
X-APPLE-STRUCTURED-LOCATION;VALUE=URI;X-ADDRESS=Rambla del Poble Nou\, 156\
 , Barcelona\, 08018\, España;X-APPLE-RADIUS=100;X-TITLE=Universitat Obert
 a de Catalunya (UOC):geo:0,0
END:VEVENT
BEGIN:VTIMEZONE
TZID:Europe/Madrid
X-LIC-LOCATION:Europe/Madrid
BEGIN:STANDARD
DTSTART:20241027T020000
TZOFFSETFROM:+0200
TZOFFSETTO:+0100
TZNAME:CET
END:STANDARD
END:VTIMEZONE
END:VCALENDAR