BEGIN:VCALENDAR
VERSION:2.0
PRODID:-//wp-events-plugin.com//7.2.3.1//EN
BEGIN:VEVENT
UID:23@huertafutura.com
DTSTART:20241010T093000Z
DTEND:20241010T103000Z
DTSTAMP:20251020T091414Z
URL:https://huertafutura.com/events/dispositivos-iot-en-ies-campanar/
SUMMARY:Instalación de dispositivos IoT en IES Campanar
DESCRIPTION:Instalación de dispositivos IoT en IES Campanar para la monito
 rización de variables ambientales.\n\n\n\nPanel de visualización\n\nWe w
 ould like to acknowledge funding from the Generalitat Valenciana (Spain) t
 hrough the PROMETEO 2024 CIPROM/2023/32 grant.\n\nPROGRAMA PROMETEO 2024 
 – CIPROM/2023/32 de la Conselleria de Educación\, Cultura\, Universidad
 es y Empleo.
LOCATION:IES Campanar\, Pça. de Badajoz\, 3\,\, Campanar\, Valencia\, 4601
 5\, València\, España
X-APPLE-STRUCTURED-LOCATION;VALUE=URI;X-ADDRESS=Pça. de Badajoz\, 3\,\, Ca
 mpanar\, Valencia\, 46015\, València\, España;X-APPLE-RADIUS=100;X-TITLE
 =IES Campanar:geo:0,0
END:VEVENT
END:VCALENDAR