BEGIN:VCALENDAR
VERSION:2.0
PRODID:-//wp-events-plugin.com//7.2.3.1//EN
BEGIN:VEVENT
UID:27@huertafutura.com
DTSTART;TZID=Europe/Madrid:20250321T193000
DTEND;TZID=Europe/Madrid:20250321T213000
DTSTAMP:20250405T163359Z
URL:https://huertafutura.com/events/datos-abiertos-y-futurizacion-en-la-hu
 erta-de-valencia-universidad-autonoma-de-nuevo-leon-uanl/
SUMMARY:Datos abiertos y Futurización en la Huerta de Valencia - Universid
 ad Autónoma de Nuevo León (UANL). 21/03/2025
DESCRIPTION:\n\n¡No te pierdas nuestro próximo Seminario de Investigació
 n!\nLa Dra. Antonia Ferrer Sapena de la Universitat Politècnica de Valèn
 cia\, presentará: "Datos abiertos en la agricultura". Estudio de casos: "
 Datos abiertos y Futurización en la Huerta de Valencia".\n\n\nHora | 12:3
 0 PM\nLugar | Auditorio FAECO\nFecha | Viernes 21 de Marzo\n\n\n\n\n\n\nWe
  would like to acknowledge funding from the Generalitat Valenciana (Spain)
  through the PROMETEO 2024 CIPROM/2023/32 grant.\n\nPROGRAMA PROMETEO 2024
  - CIPROM/2023/32) de la Conselleria de Educación\, Cultura\, Universidad
 es y Empleo.
CATEGORIES:Seminario
LOCATION:UANL Facultad de Economía\,  Calle Triste Esq\, Av Lázaro Cárde
 nas S/N\, Las Torres\, 64930 Monterrey\, N.L.\, México\, México\, Méxic
 o\, 64930\, México
X-APPLE-STRUCTURED-LOCATION;VALUE=URI;X-ADDRESS= Calle Triste Esq\, Av Láz
 aro Cárdenas S/N\, Las Torres\, 64930 Monterrey\, N.L.\, México\, Méxic
 o\, México\, 64930\, México;X-APPLE-RADIUS=100;X-TITLE=UANL Facultad de 
 Economía:geo:0,0
END:VEVENT
BEGIN:VTIMEZONE
TZID:Europe/Madrid
X-LIC-LOCATION:Europe/Madrid
BEGIN:STANDARD
DTSTART:20241027T020000
TZOFFSETFROM:+0200
TZOFFSETTO:+0100
TZNAME:CET
END:STANDARD
END:VTIMEZONE
END:VCALENDAR