BEGIN:VCALENDAR
VERSION:2.0
PRODID:-//wp-events-plugin.com//7.2.3.1//EN
BEGIN:VEVENT
UID:26@huertafutura.com
DTSTART;TZID=Europe/Madrid:20250312T090000
DTEND;TZID=Europe/Madrid:20250314T200000
DTSTAMP:20250310T185624Z
URL:https://huertafutura.com/events/congreso-codi-2025/
SUMMARY:Congreso CoDi 2025
DESCRIPTION:La difusión y transferencia del conocimiento científico\, as
 í como el análisis de su impacto en la sociedad\, son aspectos fundament
 ales en la actualidad\, donde los avances científicos se suceden a gran v
 elocidad. La ciencia\, como eje central del desarrollo\, no solo transform
 a nuestra comprensión del mundo\, sino que también influye significativa
 mente en la sociedad en su conjunto. La divulgación científica no solo f
 acilita el acceso al conocimiento\, sino que también refuerza el vínculo
  entre la comunidad científica y la sociedad\, promoviendo una toma de de
 cisiones más informada.\nEs fundamental analizar cómo las innovaciones c
 ientíficas afectan a la sociedad\, sus valores y su estructura. Un congre
 so centrado en estos temas servirá como un espacio de reflexión\, interc
 ambio de ideas y colaboración entre científicos\, divulgadores y experto
 s de diversas disciplinas. A través de este evento\, buscamos profundizar
  en el impacto social de la ciencia\, explorar su papel en el bienestar co
 lectivo y abordar los desafíos éticos y sociales que emergen con el prog
 reso científico.\nEste congreso CoDi 2025 se plantea en un momento clave\
 , ya que en el ámbito científico está ganando fuerza la idea de que la 
 sociedad\, que financia la investigación con sus impuestos\, tiene derech
 o a conocer sus resultados y beneficiarse de ellos. Es necesario empoderar
  a la ciudadanía para que participe activamente en la toma de decisiones 
 sobre qué problemáticas requieren mayor atención e investigación.\nLos
  científicos son cada vez más conscientes de que\, además de compartir 
 sus hallazgos con sus pares a través de revistas especializadas y congres
 os\, también deben acercarlos al público general\, una tarea que sigue s
 iendo un reto pendiente. Tan relevante como la divulgación en sí misma e
 s la evaluación de su impacto en la sociedad. Por ello\, el congreso cont
 ará con la participación de expertos en indicadores informétricos y alt
 métricos\, quienes aportarán metodologías para medir el alcance y la in
 fluencia de la comunicación científica.\nEl Congreso CoDi 2025 se presen
 ta como una cita ineludible para investigadores\, divulgadores y profesion
 ales de la comunicación científica. Organizado en la ciudad de Ourense\,
  este evento reunirá a expertos de diversas disciplinas con el objetivo d
 e analizar y compartir estrategias para la divulgación del conocimiento e
 n un contexto cada vez más digitalizado.\nCoDi 2025 tendrá lugar en el E
 dificio de Facultades do Campus de Ourense (Edificio de Ferro) de la Unive
 rsidad de Vigo\, del 12 al 14 de marzo de 2025. Durante tres días\, se ll
 evarán a cabo ponencias\, mesas redondas y sesiones temáticas sobre tema
 s clave como la inteligencia artificial en la comunicación\, el papel de 
 los medios en la divulgación\, la transferencia de conocimiento y la impo
 rtancia de la igualdad y la diversidad en la comunicación científica.\nE
 ntre los ponentes destacados se encuentran Eduardo Rolland\, periodista y 
 guionista audiovisual\, quien abordará el papel de la ciencia en los medi
 os de comunicación\; Óscar Huertas\, experto en inteligencia artificial 
 aplicada a la divulgación\; y Félix De Moya Anegón\, de SCImago Lab\, q
 ue analizará los indicadores de impacto social en publicaciones científi
 cas. Además\, el congreso incluirá la presentación de proyectos innovad
 ores como ShareScience y Microbacterium Institucional\, plataformas dedica
 das a la comunicación científica.\nEl evento también abrirá espacio pa
 ra la presentación de investigaciones y casos de éxito en distintas áre
 as\, como la divulgación en redes sociales\, estrategias de comunicación
  en bibliotecas y el impacto social del periodismo científico. Las sesion
 es de pósteres y la entrega de premios reconocerán las mejores iniciativ
 as de divulgación y transferencia de conocimiento.\nLa contribución del 
 equipo del programa Prometeo  2024 CIPROM/2023/32 consistirá en el desar
 rollo del proyecto "Diseñar el futuro mediante proyecciones semánticas. 
 Metodología de Open Future Lab." Este trabajo será llevado a cabo por En
 rique Sánchez-Pérez (Universitat Politècnica de València\, UPV)\, Pabl
 o Lara-Navarra (Universitat Oberta de Catalunya)\, Antonia Ferrer-Sapena (
 UPV)\, Pedro Fernández-de-Córdoba (UPV)\, Fernanda Peset (UPV)\, Ana Cor
 onado-Ferrer (UPV) y Carmen Cárcel (UPV).\nMás allá del ámbito académ
 ico\, CoDi 2025 ofrecerá actividades culturales y de networking\, incluye
 ndo una representación artística divulgativa en el Auditorio Municipal d
 e Ourense y una visita guiada por la ciudad. Para quienes deseen continuar
  explorando Galicia\, se organizará una excursión a la Ribeira Sacra el 
 15 de marzo.\nEl Congreso CoDi 2025 se consolida así como un foro impresc
 indible para la reflexión y el intercambio de ideas sobre cómo acercar l
 a ciencia a la sociedad en un mundo en constante transformación.\nWe woul
 d like to acknowledge funding from the Generalitat Valenciana (Spain) thro
 ugh the PROMETEO 2024 CIPROM/2023/32 grant.\n\nPROGRAMA PROMETEO 2024 CIPR
 OM/2023/32 de la Conselleria de Educación\, Cultura\, Universidades y Emp
 leo.
CATEGORIES:Congreso
LOCATION:Facultades do Campus de Ourense (Edificio de Ferro)\, Rúa Doutor 
 Temes Fernández\, 1\, Ourense\, 32004\, España
X-APPLE-STRUCTURED-LOCATION;VALUE=URI;X-ADDRESS=Rúa Doutor Temes Fernánde
 z\, 1\, Ourense\, 32004\, España;X-APPLE-RADIUS=100;X-TITLE=Facultades do
  Campus de Ourense (Edificio de Ferro):geo:0,0
END:VEVENT
BEGIN:VTIMEZONE
TZID:Europe/Madrid
X-LIC-LOCATION:Europe/Madrid
BEGIN:STANDARD
DTSTART:20241027T020000
TZOFFSETFROM:+0200
TZOFFSETTO:+0100
TZNAME:CET
END:STANDARD
END:VTIMEZONE
END:VCALENDAR