BEGIN:VCALENDAR
VERSION:2.0
PRODID:-//wp-events-plugin.com//7.2.3.1//EN
BEGIN:VEVENT
UID:10@huertafutura.com
DTSTART;TZID=Europe/Madrid:20241126T100000
DTEND;TZID=Europe/Madrid:20241126T120000
DTSTAMP:20241230T171625Z
URL:https://huertafutura.com/events/6o-seminario-futuros-singulares-words-
 embeddings-y-mecanica-cuantica-reunion-tecnica-26-11-2024-noviembre-9-30h-
 2/
SUMMARY:6º Seminario Futuros Singulares – Words embeddings y Mecánica c
 uántica. Reunión técnica 26/11/2024. Noviembre 9.30h
DESCRIPTION:\n\n\n\n6º Seminario Futuros Singulares: Word Embeddings y Mec
 ánica Cuántica\nEl 3 de diciembre de 2024\, el programa PROMETEO CIPROM 
 2023/32 acogió una de las sesiones más esperadas de la serie de seminari
 os Futuros Singulares. En esta ocasión\, el evento se se centró en la re
 lación entre los avances en word embeddings y los principios de la mecán
 ica cuántica\, explorando cómo estas disciplinas aparentemente dispares 
 pueden combinarse para enriquecer los modelos matemáticos y computacional
 es\n¿Por qué combinar Word Embeddings y Mecánica Cuántica?\nLos word e
 mbeddings\, una técnica ampliamente utilizada en el procesamiento del len
 guaje natural\, permiten representar palabras como vectores en un espacio 
 euclídeo\, capturando sus relaciones semánticas a través de distancias 
 matemáticas. Sin embargo\, este enfoque\, aunque poderoso\, presenta limi
 taciones en términos de precisión y riqueza contextual.\n\nPor ello\, du
 rante esta sesión\, expertos en física y matemáticas del grupo trataron
  cómo los principios de la mecánica cuántica pueden superar estas barre
 ras. La incorporación de conceptos como los espacios de Hilbert\, las fun
 ciones de onda y los formalismos de incertidumbre cuántica aporta una nue
 va dimensión\, permitiendo una representación más compleja y validada d
 e las relaciones semánticas.\nPrograma del Seminario\nEl evento contó co
 n la participación de destacados expertos de la Universitat Politècnica 
 de València (UPV)\, quienes compartieron:\n\n 	9:30 - Word Embeddings fre
 nte a la riqueza de la mecánica cuántica\nEnrique Sánchez Pérez\, UPV\
 nUna introducción a cómo la mecánica cuántica puede ampliar los límit
 es de los modelos de word embeddings tradicionales.\n 	10:15 - Traducción
  de espacios euclídeos a funciones de onda\nPedro Fernández de Córdoba\
 nExplicación de cómo los conceptos de funciones de onda pueden trasladar
  la representación de datos a un nivel más dinámico y multidimensional.
 \n 	10:30 - Espacios de Hilbert\nJuan Ángel Sans\, UPV\nExploración de l
 os espacios de Hilbert como base matemática para integrar los principios 
 cuánticos en el modelado de datos lingüísticos.\n 	10:45 - Formalismos 
 de incertidumbre cuántica en este contexto\nJosé María Isidro\, UPV\nUn
  análisis de cómo la incertidumbre cuántica puede aportar nuevas perspe
 ctivas al tratamiento de la semántica y los datos contextuales.\n\nDetall
 es del evento\n\n 	Fecha: Martes\, 26 de Noviembre de 2024\n 	Hora: De 9:3
 0 a 11:50\n 	Lugar: Ingenieros de Caminos\, Universitat Politècnica de Va
 lència\n\n&nbsp\;\n\n\n\n\n\n\n\nEl 6º Seminario Futuros Singulares\, el
  26 de noviembre de 2024 en la Universitat Politècnica de València\, exp
 lorará cómo la mecánica cuántica puede enriquecer y validar los modelo
 s de word embeddings en el procesamiento del lenguaje natural.\n\n\nWe wou
 ld like to acknowledge funding from the Generalitat Valenciana (Spain) thr
 ough the PROMETEO 2024 CIPROM/2023/32 grant.\nPROGRAMA PROMETEO 2024 - CIP
 ROM/2023/32) de la Conselleria de Educación\, Cultura\, Universidades y E
 mpleo.
CATEGORIES:Jornadas
LOCATION:Escuela Técnica Superior de Ingeniería de Caminos\, Canales y Pu
 ertos ETSICCP\, Escuela Técnica Superior de Ingeniería de Caminos\, Cana
 les y Puertos ETSICCP\, Valencia\, Valencia\, 46022\, Valencia\, España
X-APPLE-STRUCTURED-LOCATION;VALUE=URI;X-ADDRESS=Escuela Técnica Superior d
 e Ingeniería de Caminos\, Canales y Puertos ETSICCP\, Valencia\, Valencia
 \, 46022\, Valencia\, España;X-APPLE-RADIUS=100;X-TITLE=Escuela Técnica 
 Superior de Ingeniería de Caminos\, Canales y Puertos ETSICCP:geo:0,0
END:VEVENT
BEGIN:VTIMEZONE
TZID:Europe/Madrid
X-LIC-LOCATION:Europe/Madrid
BEGIN:STANDARD
DTSTART:20241027T020000
TZOFFSETFROM:+0200
TZOFFSETTO:+0100
TZNAME:CET
END:STANDARD
END:VTIMEZONE
END:VCALENDAR