BEGIN:VCALENDAR
VERSION:2.0
PRODID:-//wp-events-plugin.com//7.2.3.1//EN
BEGIN:VEVENT
UID:9@huertafutura.com
DTSTART;TZID=Europe/Madrid:20241203T100000
DTEND;TZID=Europe/Madrid:20241203T110000
DTSTAMP:20241230T171630Z
URL:https://huertafutura.com/events/6o-seminario-futuros-singulares-words-
 embeddings-y-mecanica-cuantica-reunion-tecnica-26-11-2024-noviembre-9-30h-
 2-2/
SUMMARY:7º Seminario Futuros Singulares – Words embeddings y Mecánica c
 uántica. Reunión técnica 03/12/2024. Noviembre 9.30h
DESCRIPTION:\n\n\n\n\n7º Seminario Futuros Singulares: Word Embeddings y M
 ecánica Cuántica\n\nEl 3 de diciembre de 2024\, el programa PROMETEO CIP
 ROM 2023/32 acogió una de las sesiones más esperadas de la serie de semi
 narios Futuros Singulares. En esta ocasión\, el evento se se centró en l
 a relación entre los avances en word embeddings y los principios de la me
 cánica cuántica\, explorando cómo estas disciplinas aparentemente dispa
 res pueden combinarse para enriquecer los modelos matemáticos y computaci
 onales\n\n¿Por qué combinar Word Embeddings y Mecánica Cuántica?\n\nLo
 s word embeddings\, una técnica ampliamente utilizada en el procesamiento
  del lenguaje natural\, permiten representar palabras como vectores en un 
 espacio euclídeo\, capturando sus relaciones semánticas a través de dis
 tancias matemáticas. Sin embargo\, este enfoque\, aunque poderoso\, prese
 nta limitaciones en términos de precisión y riqueza contextual.\n\nPor e
 llo\, durante esta sesión\, expertos en física y matemáticas del grupo 
 trataron cómo los principios de la mecánica cuántica pueden superar est
 as barreras. La incorporación de conceptos como los espacios de Hilbert\,
  las funciones de onda y los formalismos de incertidumbre cuántica aporta
  una nueva dimensión\, permitiendo una representación más compleja y va
 lidada de las relaciones semánticas.\n\nPrograma del Seminario\n\nEl even
 to contó con la participación de destacados expertos de la Universitat P
 olitècnica de València (UPV)\, quienes compartieron:\n\n 	9:30 - Word Em
 beddings frente a la riqueza de la mecánica cuánticaEnrique Sánchez Pé
 rez\, UPVUna introducción a cómo la mecánica cuántica puede ampliar lo
 s límites de los modelos de word embeddings tradicionales.\n 	10:15 - Tra
 ducción de espacios euclídeos a funciones de ondaPedro Fernández de Có
 rdobaExplicación de cómo los conceptos de funciones de onda pueden trasl
 adar la representación de datos a un nivel más dinámico y multidimensio
 nal.\n 	10:30 - Espacios de HilbertJuan Ángel Sans\, UPVExploración de l
 os espacios de Hilbert como base matemática para integrar los principios 
 cuánticos en el modelado de datos lingüísticos.\n 	10:45 - Formalismos 
 de incertidumbre cuántica en este contextoJosé María Isidro\, UPVUn an
 álisis de cómo la incertidumbre cuántica puede aportar nuevas perspecti
 vas al tratamiento de la semántica y los datos contextuales.\n\nDetalles 
 del evento\n\n 	Fecha: Martes\, 3 de Diciembre de 2024\n 	Hora: De 9:30 a 
 11:50\n 	Lugar: Ingenieros de Caminos\, Universitat Politècnica de Valèn
 cia\n\n\n\n\n\n\n\nEl 7º Seminario Futuros Singulares\, el 3 de diciembre
  de 2024 en la Universitat Politècnica de València\, explorará cómo la
  mecánica cuántica puede enriquecer y validar los modelos de word embedd
 ings en el procesamiento del lenguaje natural.\n\n\nWe would like to ackno
 wledge funding from the Generalitat Valenciana (Spain) through the PROMETE
 O 2024 CIPROM/2023/32 grant.\n\nPROGRAMA PROMETEO 2024 - CIPROM/2023/32) d
 e la Conselleria de Educación\, Cultura\, Universidades y Empleo.
CATEGORIES:Jornadas,Seminario
LOCATION:Escuela Técnica Superior de Ingeniería de Caminos\, Canales y Pu
 ertos ETSICCP\, Escuela Técnica Superior de Ingeniería de Caminos\, Cana
 les y Puertos ETSICCP\, Valencia\, Valencia\, 46022\, Valencia\, España
X-APPLE-STRUCTURED-LOCATION;VALUE=URI;X-ADDRESS=Escuela Técnica Superior d
 e Ingeniería de Caminos\, Canales y Puertos ETSICCP\, Valencia\, Valencia
 \, 46022\, Valencia\, España;X-APPLE-RADIUS=100;X-TITLE=Escuela Técnica 
 Superior de Ingeniería de Caminos\, Canales y Puertos ETSICCP:geo:0,0
END:VEVENT
BEGIN:VTIMEZONE
TZID:Europe/Madrid
X-LIC-LOCATION:Europe/Madrid
BEGIN:STANDARD
DTSTART:20241027T020000
TZOFFSETFROM:+0200
TZOFFSETTO:+0100
TZNAME:CET
END:STANDARD
END:VTIMEZONE
END:VCALENDAR